BEGIN:VCALENDAR
VERSION:2.0
PRODID:-//FEBF - ECPv6.15.15//NONSGML v1.0//EN
CALSCALE:GREGORIAN
METHOD:PUBLISH
X-WR-CALNAME:FEBF
X-ORIGINAL-URL:https://febf.org
X-WR-CALDESC:Eventos para FEBF
REFRESH-INTERVAL;VALUE=DURATION:PT1H
X-Robots-Tag:noindex
X-PUBLISHED-TTL:PT1H
BEGIN:VTIMEZONE
TZID:Europe/Madrid
BEGIN:DAYLIGHT
TZOFFSETFROM:+0100
TZOFFSETTO:+0200
TZNAME:CEST
DTSTART:20250330T010000
END:DAYLIGHT
BEGIN:STANDARD
TZOFFSETFROM:+0200
TZOFFSETTO:+0100
TZNAME:CET
DTSTART:20251026T010000
END:STANDARD
BEGIN:DAYLIGHT
TZOFFSETFROM:+0100
TZOFFSETTO:+0200
TZNAME:CEST
DTSTART:20260329T010000
END:DAYLIGHT
BEGIN:STANDARD
TZOFFSETFROM:+0200
TZOFFSETTO:+0100
TZNAME:CET
DTSTART:20261025T010000
END:STANDARD
BEGIN:DAYLIGHT
TZOFFSETFROM:+0100
TZOFFSETTO:+0200
TZNAME:CEST
DTSTART:20270328T010000
END:DAYLIGHT
BEGIN:STANDARD
TZOFFSETFROM:+0200
TZOFFSETTO:+0100
TZNAME:CET
DTSTART:20271031T010000
END:STANDARD
END:VTIMEZONE
BEGIN:VEVENT
DTSTART;TZID=Europe/Madrid:20260513T093000
DTEND;TZID=Europe/Madrid:20260513T113000
DTSTAMP:20260422T122026
CREATED:20260417T114557Z
LAST-MODIFIED:20260420T090612Z
UID:9604-1778664600-1778671800@febf.org
SUMMARY:Desayuno Presentación Plataforma Bivolare
DESCRIPTION:MATRÍCULA: Matrícula Gratuita. Plazas Limitadas \n\n\n\n\n\n\n\n\n\nAGENDA 13 mayo 2026:\n\n\n\n09:30 – 10:30| Presentación: Plataforma Profesional para Inversión Inmobiliaria y de Deuda \n\n\n\n\nLuis Fernández – Responsable de Vertical Hotelera\n\n\n\nSergio Navarro - Director Financiero de la plataforma Bivolare\n\n\n\nFernando Oñiga – Ceo de Bivolare\n\n\n\nJesus Barca - Responsable de Vertical Deuda\n\n\n\n\n10:30 – 11.00 Q&Q -Sesión de Preguntas y Respuestas \n\n\n\n11:00 – 11:30 | Café de Networking \n\n\n\n\n\n\n\n\n\n\n\n\n  \n\n\n\nSolicitar inscripción\n\n Tu nombre\n \n \n DNI\n \n \n Teléfono\n \n \n Email\n \n \nDatos de empresa\n\n Empresa\n \n \n Cargo\n \n \nAcepto los Términos y condiciones
URL:https://febf.org/event/desayuno-presentacion-plataforma-bivolare/
CATEGORIES:Actividades
ATTACH;FMTTYPE=image/jpeg:https://febf.org/wp-content/uploads/2026/04/Desayuno-Plataforma-Bivolare.jpg
END:VEVENT
END:VCALENDAR